Package: GSAR Version: 1.41.0 Command: E:\biocbuild\bbs-3.21-bioc\R\bin\R.exe CMD check --no-multiarch --install=check:GSAR.install-out.txt --library=E:\biocbuild\bbs-3.21-bioc\R\library --no-vignettes --timings GSAR_1.41.0.tar.gz StartedAt: 2025-02-01 01:26:25 -0500 (Sat, 01 Feb 2025) EndedAt: 2025-02-01 01:27:19 -0500 (Sat, 01 Feb 2025) EllapsedTime: 54.1 seconds RetCode: 0 Status: OK CheckDir: GSAR.Rcheck Warnings: 0