Package: GSAR Version: 1.41.0 Command: chmod a+r GSAR -R && E:\biocbuild\bbs-3.21-bioc\R\bin\R.exe CMD build --keep-empty-dirs --no-resave-data GSAR StartedAt: 2025-01-31 18:55:43 -0500 (Fri, 31 Jan 2025) EndedAt: 2025-01-31 19:01:43 -0500 (Fri, 31 Jan 2025) EllapsedTime: 360.1 seconds RetCode: 0 Status: OK PackageFile: GSAR_1.41.0.tar.gz PackageFileSize: 1.658 MiB