Package: GSAR Version: 1.41.0 Command: /home/biocbuild/bbs-3.21-bioc/R/bin/R CMD check --install=check:GSAR.install-out.txt --library=/home/biocbuild/bbs-3.21-bioc/R/site-library --timings GSAR_1.41.0.tar.gz StartedAt: 2025-01-31 22:55:10 -0500 (Fri, 31 Jan 2025) EndedAt: 2025-01-31 23:02:51 -0500 (Fri, 31 Jan 2025) EllapsedTime: 460.7 seconds RetCode: 0 Status: OK CheckDir: GSAR.Rcheck Warnings: 0