Package: GSAR Version: 1.41.0 Command: /Library/Frameworks/R.framework/Resources/bin/R CMD INSTALL GSAR StartedAt: 2025-01-31 15:02:00 -0500 (Fri, 31 Jan 2025) EndedAt: 2025-01-31 15:02:05 -0500 (Fri, 31 Jan 2025) EllapsedTime: 4.7 seconds RetCode: 0 Status: OK