Package: GSAR Version: 1.41.0 Command: /Library/Frameworks/R.framework/Resources/bin/R CMD build --keep-empty-dirs --no-resave-data GSAR StartedAt: 2025-01-31 16:33:59 -0500 (Fri, 31 Jan 2025) EndedAt: 2025-01-31 16:35:57 -0500 (Fri, 31 Jan 2025) EllapsedTime: 118.2 seconds RetCode: 0 Status: OK PackageFile: GSAR_1.41.0.tar.gz PackageFileSize: 1.777 MiB