Package: GRmetrics Version: 1.33.0 Command: /Library/Frameworks/R.framework/Resources/bin/R CMD INSTALL GRmetrics StartedAt: 2025-01-31 15:36:21 -0500 (Fri, 31 Jan 2025) EndedAt: 2025-01-31 15:36:47 -0500 (Fri, 31 Jan 2025) EllapsedTime: 26.8 seconds RetCode: 0 Status: OK