Package: GRENITS Version: 1.59.0 Command: /home/biocbuild/bbs-3.21-bioc/R/bin/R CMD INSTALL GRENITS StartedAt: 2025-01-31 15:16:37 -0500 (Fri, 31 Jan 2025) EndedAt: 2025-01-31 15:17:57 -0500 (Fri, 31 Jan 2025) EllapsedTime: 79.9 seconds RetCode: 0 Status: OK