############################################################################## ############################################################################## ### ### Running command: ### ### /home/biocbuild/bbs-3.21-bioc/R/bin/R CMD INSTALL GOfuncR ### ############################################################################## ############################################################################## * installing to library ‘/home/biocbuild/bbs-3.21-bioc/R/site-library’ * installing *source* package ‘GOfuncR’ ... ** this is package ‘GOfuncR’ version ‘1.27.0’ ** using staged installation ** libs using C compiler: ‘gcc (Ubuntu 13.3.0-6ubuntu2~24.04) 13.3.0’ using C++ compiler: ‘g++ (Ubuntu 13.3.0-6ubuntu2~24.04) 13.3.0’ g++ -std=gnu++17 -I"/home/biocbuild/bbs-3.21-bioc/R/include" -DNDEBUG -I'/home/biocbuild/bbs-3.21-bioc/R/site-library/Rcpp/include' -I/usr/local/include -fpic -g -O2 -DR_NO_REMAP -c RcppExports.cpp -o RcppExports.o g++ -std=gnu++17 -I"/home/biocbuild/bbs-3.21-bioc/R/include" -DNDEBUG -I'/home/biocbuild/bbs-3.21-bioc/R/site-library/Rcpp/include' -I/usr/local/include -fpic -g -O2 -DR_NO_REMAP -c binom_categorytest.cc -o binom_categorytest.o g++ -std=gnu++17 -I"/home/biocbuild/bbs-3.21-bioc/R/include" -DNDEBUG -I'/home/biocbuild/bbs-3.21-bioc/R/site-library/Rcpp/include' -I/usr/local/include -fpic -g -O2 -DR_NO_REMAP -c binom_randset.cc -o binom_randset.o g++ -std=gnu++17 -I"/home/biocbuild/bbs-3.21-bioc/R/include" -DNDEBUG -I'/home/biocbuild/bbs-3.21-bioc/R/site-library/Rcpp/include' -I/usr/local/include -fpic -g -O2 -DR_NO_REMAP -c blocks.cpp -o blocks.o g++ -std=gnu++17 -I"/home/biocbuild/bbs-3.21-bioc/R/include" -DNDEBUG -I'/home/biocbuild/bbs-3.21-bioc/R/site-library/Rcpp/include' -I/usr/local/include -fpic -g -O2 -DR_NO_REMAP -c conti_categorytest.cc -o conti_categorytest.o g++ -std=gnu++17 -I"/home/biocbuild/bbs-3.21-bioc/R/include" -DNDEBUG -I'/home/biocbuild/bbs-3.21-bioc/R/site-library/Rcpp/include' -I/usr/local/include -fpic -g -O2 -DR_NO_REMAP -c conti_randset.cc -o conti_randset.o g++ -std=gnu++17 -I"/home/biocbuild/bbs-3.21-bioc/R/include" -DNDEBUG -I'/home/biocbuild/bbs-3.21-bioc/R/site-library/Rcpp/include' -I/usr/local/include -fpic -g -O2 -DR_NO_REMAP -c gene.cc -o gene.o g++ -std=gnu++17 -I"/home/biocbuild/bbs-3.21-bioc/R/include" -DNDEBUG -I'/home/biocbuild/bbs-3.21-bioc/R/site-library/Rcpp/include' -I/usr/local/include -fpic -g -O2 -DR_NO_REMAP -c gene_binom.cc -o gene_binom.o g++ -std=gnu++17 -I"/home/biocbuild/bbs-3.21-bioc/R/include" -DNDEBUG -I'/home/biocbuild/bbs-3.21-bioc/R/site-library/Rcpp/include' -I/usr/local/include -fpic -g -O2 -DR_NO_REMAP -c gene_conti.cc -o gene_conti.o g++ -std=gnu++17 -I"/home/biocbuild/bbs-3.21-bioc/R/include" -DNDEBUG -I'/home/biocbuild/bbs-3.21-bioc/R/site-library/Rcpp/include' -I/usr/local/include -fpic -g -O2 -DR_NO_REMAP -c genes.cc -o genes.o g++ -std=gnu++17 -I"/home/biocbuild/bbs-3.21-bioc/R/include" -DNDEBUG -I'/home/biocbuild/bbs-3.21-bioc/R/site-library/Rcpp/include' -I/usr/local/include -fpic -g -O2 -DR_NO_REMAP -c genes_binom.cc -o genes_binom.o g++ -std=gnu++17 -I"/home/biocbuild/bbs-3.21-bioc/R/include" -DNDEBUG -I'/home/biocbuild/bbs-3.21-bioc/R/site-library/Rcpp/include' -I/usr/local/include -fpic -g -O2 -DR_NO_REMAP -c genes_conti.cc -o genes_conti.o g++ -std=gnu++17 -I"/home/biocbuild/bbs-3.21-bioc/R/include" -DNDEBUG -I'/home/biocbuild/bbs-3.21-bioc/R/site-library/Rcpp/include' -I/usr/local/include -fpic -g -O2 -DR_NO_REMAP -c go.cc -o go.o g++ -std=gnu++17 -I"/home/biocbuild/bbs-3.21-bioc/R/include" -DNDEBUG -I'/home/biocbuild/bbs-3.21-bioc/R/site-library/Rcpp/include' -I/usr/local/include -fpic -g -O2 -DR_NO_REMAP -c go_graph.cc -o go_graph.o g++ -std=gnu++17 -I"/home/biocbuild/bbs-3.21-bioc/R/include" -DNDEBUG -I'/home/biocbuild/bbs-3.21-bioc/R/site-library/Rcpp/include' -I/usr/local/include -fpic -g -O2 -DR_NO_REMAP -c go_graph_binom.cc -o go_graph_binom.o g++ -std=gnu++17 -I"/home/biocbuild/bbs-3.21-bioc/R/include" -DNDEBUG -I'/home/biocbuild/bbs-3.21-bioc/R/site-library/Rcpp/include' -I/usr/local/include -fpic -g -O2 -DR_NO_REMAP -c go_graph_conti.cc -o go_graph_conti.o g++ -std=gnu++17 -I"/home/biocbuild/bbs-3.21-bioc/R/include" -DNDEBUG -I'/home/biocbuild/bbs-3.21-bioc/R/site-library/Rcpp/include' -I/usr/local/include -fpic -g -O2 -DR_NO_REMAP -c go_graph_hyper.cc -o go_graph_hyper.o g++ -std=gnu++17 -I"/home/biocbuild/bbs-3.21-bioc/R/include" -DNDEBUG -I'/home/biocbuild/bbs-3.21-bioc/R/site-library/Rcpp/include' -I/usr/local/include -fpic -g -O2 -DR_NO_REMAP -c go_groups.cc -o go_groups.o g++ -std=gnu++17 -I"/home/biocbuild/bbs-3.21-bioc/R/include" -DNDEBUG -I'/home/biocbuild/bbs-3.21-bioc/R/site-library/Rcpp/include' -I/usr/local/include -fpic -g -O2 -DR_NO_REMAP -c go_groups_binom.cc -o go_groups_binom.o g++ -std=gnu++17 -I"/home/biocbuild/bbs-3.21-bioc/R/include" -DNDEBUG -I'/home/biocbuild/bbs-3.21-bioc/R/site-library/Rcpp/include' -I/usr/local/include -fpic -g -O2 -DR_NO_REMAP -c go_groups_conti.cc -o go_groups_conti.o g++ -std=gnu++17 -I"/home/biocbuild/bbs-3.21-bioc/R/include" -DNDEBUG -I'/home/biocbuild/bbs-3.21-bioc/R/site-library/Rcpp/include' -I/usr/local/include -fpic -g -O2 -DR_NO_REMAP -c go_groups_hyper.cc -o go_groups_hyper.o g++ -std=gnu++17 -I"/home/biocbuild/bbs-3.21-bioc/R/include" -DNDEBUG -I'/home/biocbuild/bbs-3.21-bioc/R/site-library/Rcpp/include' -I/usr/local/include -fpic -g -O2 -DR_NO_REMAP -c go_obj.cc -o go_obj.o g++ -std=gnu++17 -I"/home/biocbuild/bbs-3.21-bioc/R/include" -DNDEBUG -I'/home/biocbuild/bbs-3.21-bioc/R/site-library/Rcpp/include' -I/usr/local/include -fpic -g -O2 -DR_NO_REMAP -c go_obj_binom.cc -o go_obj_binom.o g++ -std=gnu++17 -I"/home/biocbuild/bbs-3.21-bioc/R/include" -DNDEBUG -I'/home/biocbuild/bbs-3.21-bioc/R/site-library/Rcpp/include' -I/usr/local/include -fpic -g -O2 -DR_NO_REMAP -c go_obj_conti.cc -o go_obj_conti.o g++ -std=gnu++17 -I"/home/biocbuild/bbs-3.21-bioc/R/include" -DNDEBUG -I'/home/biocbuild/bbs-3.21-bioc/R/site-library/Rcpp/include' -I/usr/local/include -fpic -g -O2 -DR_NO_REMAP -c go_obj_hyper.cc -o go_obj_hyper.o g++ -std=gnu++17 -I"/home/biocbuild/bbs-3.21-bioc/R/include" -DNDEBUG -I'/home/biocbuild/bbs-3.21-bioc/R/site-library/Rcpp/include' -I/usr/local/include -fpic -g -O2 -DR_NO_REMAP -c hyper_categorytest.cc -o hyper_categorytest.o g++ -std=gnu++17 -I"/home/biocbuild/bbs-3.21-bioc/R/include" -DNDEBUG -I'/home/biocbuild/bbs-3.21-bioc/R/site-library/Rcpp/include' -I/usr/local/include -fpic -g -O2 -DR_NO_REMAP -c hyper_randset.cc -o hyper_randset.o g++ -std=gnu++17 -I"/home/biocbuild/bbs-3.21-bioc/R/include" -DNDEBUG -I'/home/biocbuild/bbs-3.21-bioc/R/site-library/Rcpp/include' -I/usr/local/include -fpic -g -O2 -DR_NO_REMAP -c idmap.cc -o idmap.o gcc -I"/home/biocbuild/bbs-3.21-bioc/R/include" -DNDEBUG -I'/home/biocbuild/bbs-3.21-bioc/R/site-library/Rcpp/include' -I/usr/local/include -fpic -g -O2 -c init.c -o init.o g++ -std=gnu++17 -I"/home/biocbuild/bbs-3.21-bioc/R/include" -DNDEBUG -I'/home/biocbuild/bbs-3.21-bioc/R/site-library/Rcpp/include' -I/usr/local/include -fpic -g -O2 -DR_NO_REMAP -c ran_genelen.cpp -o ran_genelen.o g++ -std=gnu++17 -I"/home/biocbuild/bbs-3.21-bioc/R/include" -DNDEBUG -I'/home/biocbuild/bbs-3.21-bioc/R/site-library/Rcpp/include' -I/usr/local/include -fpic -g -O2 -DR_NO_REMAP -c read_bed.cpp -o read_bed.o g++ -std=gnu++17 -I"/home/biocbuild/bbs-3.21-bioc/R/include" -DNDEBUG -I'/home/biocbuild/bbs-3.21-bioc/R/site-library/Rcpp/include' -I/usr/local/include -fpic -g -O2 -DR_NO_REMAP -c roll.cpp -o roll.o g++ -std=gnu++17 -I"/home/biocbuild/bbs-3.21-bioc/R/include" -DNDEBUG -I'/home/biocbuild/bbs-3.21-bioc/R/site-library/Rcpp/include' -I/usr/local/include -fpic -g -O2 -DR_NO_REMAP -c transitions.cc -o transitions.o g++ -std=gnu++17 -I"/home/biocbuild/bbs-3.21-bioc/R/include" -DNDEBUG -I'/home/biocbuild/bbs-3.21-bioc/R/site-library/Rcpp/include' -I/usr/local/include -fpic -g -O2 -DR_NO_REMAP -c unlock_environment.cc -o unlock_environment.o g++ -std=gnu++17 -I"/home/biocbuild/bbs-3.21-bioc/R/include" -DNDEBUG -I'/home/biocbuild/bbs-3.21-bioc/R/site-library/Rcpp/include' -I/usr/local/include -fpic -g -O2 -DR_NO_REMAP -c wilcox_categorytest.cc -o wilcox_categorytest.o g++ -std=gnu++17 -I"/home/biocbuild/bbs-3.21-bioc/R/include" -DNDEBUG -I'/home/biocbuild/bbs-3.21-bioc/R/site-library/Rcpp/include' -I/usr/local/include -fpic -g -O2 -DR_NO_REMAP -c wilcox_randset.cc -o wilcox_randset.o g++ -std=gnu++17 -shared -L/home/biocbuild/bbs-3.21-bioc/R/lib -L/usr/local/lib -o GOfuncR.so RcppExports.o binom_categorytest.o binom_randset.o blocks.o conti_categorytest.o conti_randset.o gene.o gene_binom.o gene_conti.o genes.o genes_binom.o genes_conti.o go.o go_graph.o go_graph_binom.o go_graph_conti.o go_graph_hyper.o go_groups.o go_groups_binom.o go_groups_conti.o go_groups_hyper.o go_obj.o go_obj_binom.o go_obj_conti.o go_obj_hyper.o hyper_categorytest.o hyper_randset.o idmap.o init.o ran_genelen.o read_bed.o roll.o transitions.o unlock_environment.o wilcox_categorytest.o wilcox_randset.o -L/home/biocbuild/bbs-3.21-bioc/R/lib -lR installing to /home/biocbuild/bbs-3.21-bioc/R/site-library/00LOCK-GOfuncR/00new/GOfuncR/libs ** R ** inst ** byte-compile and prepare package for lazy loading ** help *** installing help indices ** building package indices ** installing vignettes ** testing if installed package can be loaded from temporary location ** checking absolute paths in shared objects and dynamic libraries ** testing if installed package can be loaded from final location ** testing if installed package keeps a record of temporary installation path * DONE (GOfuncR)