Package: GNOSIS Version: 1.5.0 Command: /home/biocbuild/R/R/bin/R CMD check --install=check:GNOSIS.install-out.txt --library=/home/biocbuild/R/R/site-library --no-vignettes --timings GNOSIS_1.5.0.tar.gz StartedAt: 2025-01-28 11:11:33 -0000 (Tue, 28 Jan 2025) EndedAt: 2025-01-28 11:19:30 -0000 (Tue, 28 Jan 2025) EllapsedTime: 476.3 seconds RetCode: 0 Status: WARNINGS CheckDir: GNOSIS.Rcheck Warnings: 5