Package: GMRP Version: 1.35.0 Command: /home/biocbuild/bbs-3.21-bioc/R/bin/R CMD INSTALL GMRP StartedAt: 2025-01-31 15:16:44 -0500 (Fri, 31 Jan 2025) EndedAt: 2025-01-31 15:16:54 -0500 (Fri, 31 Jan 2025) EllapsedTime: 9.7 seconds RetCode: 0 Status: OK