Package: GGPA Version: 1.19.0 Command: chmod a+r GGPA -R && E:\biocbuild\bbs-3.21-bioc\R\bin\R.exe CMD build --keep-empty-dirs --no-resave-data GGPA StartedAt: 2025-01-31 18:48:05 -0500 (Fri, 31 Jan 2025) EndedAt: 2025-01-31 18:49:47 -0500 (Fri, 31 Jan 2025) EllapsedTime: 101.7 seconds RetCode: 0 Status: OK PackageFile: GGPA_1.19.0.tar.gz PackageFileSize: 4.59 MiB