Package: GGPA Version: 1.19.0 Command: /Library/Frameworks/R.framework/Resources/bin/R CMD INSTALL GGPA StartedAt: 2025-01-31 15:12:33 -0500 (Fri, 31 Jan 2025) EndedAt: 2025-01-31 15:13:03 -0500 (Fri, 31 Jan 2025) EllapsedTime: 30.3 seconds RetCode: 0 Status: OK