Package: GEWIST Version: 1.51.0 Command: E:\biocbuild\bbs-3.21-bioc\R\bin\R.exe CMD INSTALL GEWIST StartedAt: 2025-01-31 16:29:25 -0500 (Fri, 31 Jan 2025) EndedAt: 2025-01-31 16:29:29 -0500 (Fri, 31 Jan 2025) EllapsedTime: 4.9 seconds RetCode: 0 Status: OK