Package: GEWIST Version: 1.51.0 Command: E:\biocbuild\bbs-3.21-bioc\R\bin\R.exe CMD check --no-multiarch --install=check:GEWIST.install-out.txt --library=E:\biocbuild\bbs-3.21-bioc\R\library --no-vignettes --timings GEWIST_1.51.0.tar.gz StartedAt: 2025-02-01 01:13:21 -0500 (Sat, 01 Feb 2025) EndedAt: 2025-02-01 01:14:32 -0500 (Sat, 01 Feb 2025) EllapsedTime: 71.1 seconds RetCode: 0 Status: OK CheckDir: GEWIST.Rcheck Warnings: 0