Package: GEOmetadb Version: 1.69.2 Command: /home/biocbuild/R/R/bin/R CMD build --keep-empty-dirs --no-resave-data GEOmetadb StartedAt: 2025-01-28 23:09:33 -0000 (Tue, 28 Jan 2025) EndedAt: 2025-01-28 23:11:42 -0000 (Tue, 28 Jan 2025) EllapsedTime: 129.0 seconds RetCode: 0 Status: OK PackageFile: GEOmetadb_1.69.2.tar.gz PackageFileSize: 540.2 KiB