Package: GEOfastq Version: 1.15.0 Command: /home/biocbuild/R/R/bin/R CMD build --keep-empty-dirs --no-resave-data GEOfastq StartedAt: 2025-01-28 23:09:21 -0000 (Tue, 28 Jan 2025) EndedAt: 2025-01-28 23:10:02 -0000 (Tue, 28 Jan 2025) EllapsedTime: 41.0 seconds RetCode: 0 Status: OK PackageFile: GEOfastq_1.15.0.tar.gz PackageFileSize: 13.88 KiB