Package: GEM Version: 1.33.0 Command: /Library/Frameworks/R.framework/Resources/bin/R CMD INSTALL GEM StartedAt: 2025-01-31 15:12:09 -0500 (Fri, 31 Jan 2025) EndedAt: 2025-01-31 15:12:28 -0500 (Fri, 31 Jan 2025) EllapsedTime: 19.2 seconds RetCode: 0 Status: OK