Package: GEM Version: 1.33.0 Command: /Library/Frameworks/R.framework/Resources/bin/R CMD build --keep-empty-dirs --no-resave-data GEM StartedAt: 2025-01-31 16:47:08 -0500 (Fri, 31 Jan 2025) EndedAt: 2025-01-31 16:47:32 -0500 (Fri, 31 Jan 2025) EllapsedTime: 24.1 seconds RetCode: 0 Status: OK PackageFile: GEM_1.33.0.tar.gz PackageFileSize: 689.2 KiB