Package: GDSArray Version: 1.27.0 Command: E:\biocbuild\bbs-3.21-bioc\R\bin\R.exe CMD INSTALL GDSArray StartedAt: 2025-02-02 15:52:23 -0500 (Sun, 02 Feb 2025) EndedAt: 2025-02-02 15:52:53 -0500 (Sun, 02 Feb 2025) EllapsedTime: 30.4 seconds RetCode: 0 Status: OK