Package: GDSArray Version: 1.27.0 Command: rm -rf GDSArray.buildbin-libdir && mkdir GDSArray.buildbin-libdir && E:\biocbuild\bbs-3.21-bioc\R\bin\R.exe CMD INSTALL --build --library=GDSArray.buildbin-libdir GDSArray_1.27.0.tar.gz StartedAt: 2025-02-03 07:22:40 -0500 (Mon, 03 Feb 2025) EndedAt: 2025-02-03 07:23:23 -0500 (Mon, 03 Feb 2025) EllapsedTime: 43.0 seconds RetCode: 0 Status: OK PackageFile: GDSArray_1.27.0.zip PackageFileSize: 667.6 KiB