Package: GDSArray Version: 1.27.0 Command: /home/biocbuild/bbs-3.21-bioc/R/bin/R CMD INSTALL GDSArray StartedAt: 2025-01-31 15:16:24 -0500 (Fri, 31 Jan 2025) EndedAt: 2025-01-31 15:16:40 -0500 (Fri, 31 Jan 2025) EllapsedTime: 16.7 seconds RetCode: 0 Status: OK