Package: GDSArray Version: 1.27.0 Command: /Library/Frameworks/R.framework/Resources/bin/R CMD INSTALL GDSArray StartedAt: 2025-02-02 15:10:10 -0500 (Sun, 02 Feb 2025) EndedAt: 2025-02-02 15:10:39 -0500 (Sun, 02 Feb 2025) EllapsedTime: 28.9 seconds RetCode: 0 Status: OK