Package: GDSArray Version: 1.27.0 Command: /Library/Frameworks/R.framework/Resources/bin/R CMD check --install=check:GDSArray.install-out.txt --library=/Library/Frameworks/R.framework/Resources/library --no-vignettes --timings GDSArray_1.27.0.tar.gz StartedAt: 2025-02-02 20:31:49 -0500 (Sun, 02 Feb 2025) EndedAt: 2025-02-02 20:34:16 -0500 (Sun, 02 Feb 2025) EllapsedTime: 146.9 seconds RetCode: 0 Status: WARNINGS CheckDir: GDSArray.Rcheck Warnings: 2