Package: GDSArray Version: 1.27.0 Command: /home/biocbuild/R/R/bin/R CMD INSTALL GDSArray StartedAt: 2025-01-29 19:40:45 -0000 (Wed, 29 Jan 2025) EndedAt: 2025-01-29 19:41:08 -0000 (Wed, 29 Jan 2025) EllapsedTime: 22.6 seconds RetCode: 0 Status: OK