Package: GDSArray Version: 1.27.0 Command: /Library/Frameworks/R.framework/Resources/bin/R CMD check --install=check:GDSArray.install-out.txt --library=/Library/Frameworks/R.framework/Resources/library --no-vignettes --timings GDSArray_1.27.0.tar.gz StartedAt: 2025-01-31 19:20:54 -0500 (Fri, 31 Jan 2025) EndedAt: 2025-01-31 19:21:41 -0500 (Fri, 31 Jan 2025) EllapsedTime: 46.6 seconds RetCode: 0 Status: WARNINGS CheckDir: GDSArray.Rcheck Warnings: 2