Package: GARS Version: 1.27.0 Command: /Library/Frameworks/R.framework/Resources/bin/R CMD INSTALL GARS StartedAt: 2025-01-31 15:24:19 -0500 (Fri, 31 Jan 2025) EndedAt: 2025-01-31 15:24:41 -0500 (Fri, 31 Jan 2025) EllapsedTime: 22.1 seconds RetCode: 0 Status: OK