Package: GARS Version: 1.27.0 Command: rm -rf GARS.buildbin-libdir && mkdir GARS.buildbin-libdir && /Users/biocbuild/BBS/utils/build-universal.sh GARS_1.27.0.tar.gz /Library/Frameworks/R.framework/Resources/bin/R GARS.buildbin-libdir StartedAt: 2025-01-31 22:16:55 -0500 (Fri, 31 Jan 2025) EndedAt: 2025-01-31 22:17:19 -0500 (Fri, 31 Jan 2025) EllapsedTime: 24.5 seconds RetCode: 0 Status: OK PackageFile: GARS_1.27.0.tgz PackageFileSize: 501.4 KiB