Package: FitHiC Version: 1.33.0 Command: /home/biocbuild/R/R/bin/R CMD build --keep-empty-dirs --no-resave-data FitHiC StartedAt: 2025-01-28 22:53:58 -0000 (Tue, 28 Jan 2025) EndedAt: 2025-01-28 22:56:50 -0000 (Tue, 28 Jan 2025) EllapsedTime: 172.1 seconds RetCode: 0 Status: OK PackageFile: FitHiC_1.33.0.tar.gz PackageFileSize: 27.66 MiB