Package: FindIT2 Version: 1.13.0 Command: E:\biocbuild\bbs-3.21-bioc\R\bin\R.exe CMD INSTALL FindIT2 StartedAt: 2025-01-31 16:27:06 -0500 (Fri, 31 Jan 2025) EndedAt: 2025-01-31 16:27:56 -0500 (Fri, 31 Jan 2025) EllapsedTime: 50.1 seconds RetCode: 0 Status: OK