Package: FindIT2 Version: 1.13.0 Command: E:\biocbuild\bbs-3.21-bioc\R\bin\R.exe CMD check --no-multiarch --install=check:FindIT2.install-out.txt --library=E:\biocbuild\bbs-3.21-bioc\R\library --no-vignettes --timings FindIT2_1.13.0.tar.gz StartedAt: 2025-02-01 00:48:19 -0500 (Sat, 01 Feb 2025) EndedAt: 2025-02-01 00:54:51 -0500 (Sat, 01 Feb 2025) EllapsedTime: 392.2 seconds RetCode: 0 Status: OK CheckDir: FindIT2.Rcheck Warnings: 0