Package: FELLA Version: 1.27.0 Command: E:\biocbuild\bbs-3.21-bioc\R\bin\R.exe CMD INSTALL FELLA StartedAt: 2025-01-31 15:37:54 -0500 (Fri, 31 Jan 2025) EndedAt: 2025-01-31 15:38:41 -0500 (Fri, 31 Jan 2025) EllapsedTime: 47.6 seconds RetCode: 0 Status: OK