Package: FELLA Version: 1.27.0 Command: E:\biocbuild\bbs-3.21-bioc\R\bin\R.exe CMD check --no-multiarch --install=check:FELLA.install-out.txt --library=E:\biocbuild\bbs-3.21-bioc\R\library --no-vignettes --timings FELLA_1.27.0.tar.gz StartedAt: 2025-02-01 00:47:13 -0500 (Sat, 01 Feb 2025) EndedAt: 2025-02-01 00:50:52 -0500 (Sat, 01 Feb 2025) EllapsedTime: 218.9 seconds RetCode: 0 Status: OK CheckDir: FELLA.Rcheck Warnings: 0