Package: FELLA Version: 1.27.0 Command: rm -rf FELLA.buildbin-libdir && mkdir FELLA.buildbin-libdir && E:\biocbuild\bbs-3.21-bioc\R\bin\R.exe CMD INSTALL --build --library=FELLA.buildbin-libdir FELLA_1.27.0.tar.gz StartedAt: 2025-02-01 07:12:36 -0500 (Sat, 01 Feb 2025) EndedAt: 2025-02-01 07:13:18 -0500 (Sat, 01 Feb 2025) EllapsedTime: 42.3 seconds RetCode: 0 Status: OK PackageFile: FELLA_1.27.0.zip PackageFileSize: 3.067 MiB