Package: FELLA Version: 1.27.0 Command: /home/biocbuild/bbs-3.21-bioc/R/bin/R CMD build --keep-empty-dirs --no-resave-data FELLA StartedAt: 2025-01-31 17:16:47 -0500 (Fri, 31 Jan 2025) EndedAt: 2025-01-31 17:41:45 -0500 (Fri, 31 Jan 2025) EllapsedTime: 1498.2 seconds RetCode: 0 Status: OK PackageFile: FELLA_1.27.0.tar.gz PackageFileSize: 4.169 MiB