Package: ExpressionAtlas Version: 1.35.0 Command: E:\biocbuild\bbs-3.21-bioc\R\bin\R.exe CMD check --no-multiarch --install=check:ExpressionAtlas.install-out.txt --library=E:\biocbuild\bbs-3.21-bioc\R\library --no-vignettes --timings ExpressionAtlas_1.35.0.tar.gz StartedAt: 2025-02-01 00:42:27 -0500 (Sat, 01 Feb 2025) EndedAt: 2025-02-01 00:46:07 -0500 (Sat, 01 Feb 2025) EllapsedTime: 220.3 seconds RetCode: 0 Status: OK CheckDir: ExpressionAtlas.Rcheck Warnings: 0