Package: ExploreModelMatrix Version: 1.19.2 Command: /home/biocbuild/R/R/bin/R CMD INSTALL ExploreModelMatrix StartedAt: 2025-01-29 20:06:38 -0000 (Wed, 29 Jan 2025) EndedAt: 2025-01-29 20:06:49 -0000 (Wed, 29 Jan 2025) EllapsedTime: 11.0 seconds RetCode: 0 Status: OK