Package: ExCluster Version: 1.25.0 Command: /Library/Frameworks/R.framework/Resources/bin/R CMD build --keep-empty-dirs --no-resave-data ExCluster StartedAt: 2025-02-02 16:37:31 -0500 (Sun, 02 Feb 2025) EndedAt: 2025-02-02 16:38:18 -0500 (Sun, 02 Feb 2025) EllapsedTime: 47.8 seconds RetCode: 0 Status: OK PackageFile: ExCluster_1.25.0.tar.gz PackageFileSize: 403.8 KiB