Package: EventPointer Version: 3.15.0 Command: rm -rf EventPointer.buildbin-libdir && mkdir EventPointer.buildbin-libdir && E:\biocbuild\bbs-3.21-bioc\R\bin\R.exe CMD INSTALL --build --library=EventPointer.buildbin-libdir EventPointer_3.15.0.tar.gz StartedAt: 2025-02-03 07:18:35 -0500 (Mon, 03 Feb 2025) EndedAt: 2025-02-03 07:20:53 -0500 (Mon, 03 Feb 2025) EllapsedTime: 137.8 seconds RetCode: 0 Status: OK PackageFile: EventPointer_3.15.0.zip PackageFileSize: 1.327 MiB