Package: EpiTxDb Version: 1.19.0 Command: /home/biocbuild/bbs-3.21-bioc/R/bin/R CMD INSTALL EpiTxDb StartedAt: 2025-01-31 15:33:36 -0500 (Fri, 31 Jan 2025) EndedAt: 2025-01-31 15:34:20 -0500 (Fri, 31 Jan 2025) EllapsedTime: 43.6 seconds RetCode: 0 Status: OK