Package: EpiTxDb Version: 1.19.0 Command: /Library/Frameworks/R.framework/Resources/bin/R CMD build --keep-empty-dirs --no-resave-data EpiTxDb StartedAt: 2025-01-31 16:18:06 -0500 (Fri, 31 Jan 2025) EndedAt: 2025-01-31 16:19:12 -0500 (Fri, 31 Jan 2025) EllapsedTime: 66.7 seconds RetCode: 0 Status: OK PackageFile: EpiTxDb_1.19.0.tar.gz PackageFileSize: 778.2 KiB