Package: EpiCompare Version: 1.11.0 Command: /Library/Frameworks/R.framework/Resources/bin/R CMD check --install=check:EpiCompare.install-out.txt --library=/Library/Frameworks/R.framework/Resources/library --no-vignettes --timings EpiCompare_1.11.0.tar.gz StartedAt: 2025-01-31 19:07:29 -0500 (Fri, 31 Jan 2025) EndedAt: 2025-01-31 19:10:36 -0500 (Fri, 31 Jan 2025) EllapsedTime: 187.1 seconds RetCode: 1 Status: ERROR CheckDir: EpiCompare.Rcheck Warnings: NA