Package: EnMCB Version: 1.19.0 Command: rm -rf EnMCB.buildbin-libdir && mkdir EnMCB.buildbin-libdir && E:\biocbuild\bbs-3.21-bioc\R\bin\R.exe CMD INSTALL --build --library=EnMCB.buildbin-libdir EnMCB_1.19.0.tar.gz StartedAt: 2025-02-01 07:08:55 -0500 (Sat, 01 Feb 2025) EndedAt: 2025-02-01 07:09:37 -0500 (Sat, 01 Feb 2025) EllapsedTime: 42.1 seconds RetCode: 0 Status: OK PackageFile: EnMCB_1.19.0.zip PackageFileSize: 5.086 MiB