Package: EnMCB Version: 1.19.0 Command: /home/biocbuild/bbs-3.21-bioc/R/bin/R CMD INSTALL EnMCB StartedAt: 2025-02-02 15:42:45 -0500 (Sun, 02 Feb 2025) EndedAt: 2025-02-02 15:42:58 -0500 (Sun, 02 Feb 2025) EllapsedTime: 13.0 seconds RetCode: 0 Status: OK