Package: EnMCB Version: 1.19.0 Command: /home/biocbuild/bbs-3.21-bioc/R/bin/R CMD check --install=check:EnMCB.install-out.txt --library=/home/biocbuild/bbs-3.21-bioc/R/site-library --timings EnMCB_1.19.0.tar.gz StartedAt: 2025-02-02 21:55:55 -0500 (Sun, 02 Feb 2025) EndedAt: 2025-02-02 21:58:34 -0500 (Sun, 02 Feb 2025) EllapsedTime: 159.2 seconds RetCode: 0 Status: OK CheckDir: EnMCB.Rcheck Warnings: 0