Package: EmpiricalBrownsMethod Version: 1.35.0 Command: /home/biocbuild/bbs-3.21-bioc/R/bin/R CMD INSTALL EmpiricalBrownsMethod StartedAt: 2025-01-31 15:08:35 -0500 (Fri, 31 Jan 2025) EndedAt: 2025-01-31 15:08:39 -0500 (Fri, 31 Jan 2025) EllapsedTime: 4.7 seconds RetCode: 0 Status: OK