Package: EmpiricalBrownsMethod Version: 1.35.0 Command: /Library/Frameworks/R.framework/Resources/bin/R CMD check --install=check:EmpiricalBrownsMethod.install-out.txt --library=/Library/Frameworks/R.framework/Resources/library --no-vignettes --timings EmpiricalBrownsMethod_1.35.0.tar.gz StartedAt: 2025-01-31 19:06:14 -0500 (Fri, 31 Jan 2025) EndedAt: 2025-01-31 19:06:25 -0500 (Fri, 31 Jan 2025) EllapsedTime: 11.1 seconds RetCode: 0 Status: OK CheckDir: EmpiricalBrownsMethod.Rcheck Warnings: 0