Package: EGSEA Version: 1.35.0 Command: E:\biocbuild\bbs-3.21-bioc\R\bin\R.exe CMD INSTALL EGSEA StartedAt: 2025-01-31 16:42:55 -0500 (Fri, 31 Jan 2025) EndedAt: 2025-01-31 16:44:11 -0500 (Fri, 31 Jan 2025) EllapsedTime: 76.7 seconds RetCode: 0 Status: OK