Package: EGSEA Version: 1.35.0 Command: /Library/Frameworks/R.framework/Resources/bin/R CMD check --install=check:EGSEA.install-out.txt --library=/Library/Frameworks/R.framework/Resources/library --no-vignettes --timings EGSEA_1.35.0.tar.gz StartedAt: 2025-01-31 20:09:49 -0500 (Fri, 31 Jan 2025) EndedAt: 2025-01-31 20:19:35 -0500 (Fri, 31 Jan 2025) EllapsedTime: 586.3 seconds RetCode: 0 Status: OK CheckDir: EGSEA.Rcheck Warnings: 0