Package: EGSEA Version: 1.35.0 Command: /Library/Frameworks/R.framework/Resources/bin/R CMD build --keep-empty-dirs --no-resave-data EGSEA StartedAt: 2025-01-31 16:36:44 -0500 (Fri, 31 Jan 2025) EndedAt: 2025-01-31 16:41:07 -0500 (Fri, 31 Jan 2025) EllapsedTime: 262.8 seconds RetCode: 0 Status: OK PackageFile: EGSEA_1.35.0.tar.gz PackageFileSize: 2.088 MiB