Package: EBarrays Version: 2.71.0 Command: E:\biocbuild\bbs-3.21-bioc\R\bin\R.exe CMD INSTALL EBarrays StartedAt: 2025-01-31 15:22:46 -0500 (Fri, 31 Jan 2025) EndedAt: 2025-01-31 15:23:04 -0500 (Fri, 31 Jan 2025) EllapsedTime: 18.1 seconds RetCode: 0 Status: OK